BEGIN:VCALENDAR
VERSION:2.0
PRODID:-//Kunst- und Kulturverein Erbendorf - ECPv6.10.0//NONSGML v1.0//EN
CALSCALE:GREGORIAN
METHOD:PUBLISH
X-WR-CALNAME:Kunst- und Kulturverein Erbendorf
X-ORIGINAL-URL:https://www.kukuve.org
X-WR-CALDESC:Veranstaltungen für Kunst- und Kulturverein Erbendorf
REFRESH-INTERVAL;VALUE=DURATION:PT1H
X-Robots-Tag:noindex
X-PUBLISHED-TTL:PT1H
BEGIN:VTIMEZONE
TZID:Europe/Berlin
BEGIN:DAYLIGHT
TZOFFSETFROM:+0100
TZOFFSETTO:+0200
TZNAME:CEST
DTSTART:20260329T010000
END:DAYLIGHT
BEGIN:STANDARD
TZOFFSETFROM:+0200
TZOFFSETTO:+0100
TZNAME:CET
DTSTART:20261025T010000
END:STANDARD
END:VTIMEZONE
BEGIN:VEVENT
DTSTART;TZID=Europe/Berlin:20261009T140000
DTEND;TZID=Europe/Berlin:20261025T170000
DTSTAMP:20260421T202919
CREATED:20260326T175209Z
LAST-MODIFIED:20260326T175209Z
UID:2112-1791554400-1792947600@www.kukuve.org
SUMMARY:Fotoausstellung: Spuren des Lichts
DESCRIPTION:Kann eine Fotografie mehr sein\, als eine bloße Momentaufnahme? Ist es möglich\, Dynamik und Rhythmus auf einem einzigen Bild festzuhalten? Was entsteht\, wenn man dem Licht eine zentrale Rolle innerhalb des Werks zuweist? \nMit seinen neuen fotografischen Arbeiten lotet Chris Dannerbauer die Grenzen der klassischen Fotografie aus. Mit Hilfe langer Belichtungszeiten und dem gezielten Einsatz von Lichtelementen gelingt es ihm\, seine Protagonisten – Tänzer\, Artisten\, Musiker und Sportler – auf spektakuläre Weise zu inszenieren und ihre kunstvollen Bewegungsabläufe sichtbar zu machen. Strahlende Farblinien werden zum erzählenden Element und entführen den Betrachter auf den „Spuren des Lichts“ in Welten voll tänzerischer Leichtigkeit und geheimnisvoller Mystik. \nÖffnungszeiten: Samstags + Sonntags\, jeweils 14-17 Uhr\nEintritt frei!
URL:https://www.kukuve.org/veranstaltungen/fotoausstellung-spuren-des-lichts/
LOCATION:Bürgerhaus\, Bräugasse 23\, Erbendorf
CATEGORIES:Fotografie
END:VEVENT
BEGIN:VEVENT
DTSTART;TZID=Europe/Berlin:20261010T130000
DTEND;TZID=Europe/Berlin:20261010T153000
DTSTAMP:20260421T202919
CREATED:20260326T175147Z
LAST-MODIFIED:20260326T175147Z
UID:2114-1791637200-1791646200@www.kukuve.org
SUMMARY:Walking & Plein-Air-Sketching
DESCRIPTION:Eine beschauliche Wanderung die zum gemeinsamen Austausch auf dem Weg einlädt und ein Eintauchen in das individuelle Impressionserleben ermöglicht. Im Handgepäck ein Skizzenbuch und einfaches Zeichenmaterial\, wie Bleistift\, Fineliner\, Zeichenkohle oder ein paar Buntstifte. Es geht um das kreative Einfangen von Momentaufnahmen in ein Skizzenbuch. Dafür wird ein Timer gestellt und mit unterschiedlich kurzen Zeitfenstern experimentiert. Angeregt wird ein schnelles Skizzieren\, ohne viel nachzudenken – intuitiv\, reduziert und mit instinktiver Bewegungsenergie. Ohne Druck auf ein fertiges Ergebnis wird der jeweilige Skizzenmoment eingefangen und wahrgenommen. Die Teilnehmenden entscheiden selbst wo angehalten und skizziert wird. Festes Schuhwerk empfohlen. \nTeilnahmegebühr: 15€ (Mitglieder 10€)
URL:https://www.kukuve.org/veranstaltungen/walking-plein-air-sketching/
CATEGORIES:Gesundheit
END:VEVENT
END:VCALENDAR