BEGIN:VCALENDAR
VERSION:2.0
PRODID:-//Kunst- und Kulturverein Erbendorf - ECPv6.10.0//NONSGML v1.0//EN
CALSCALE:GREGORIAN
METHOD:PUBLISH
X-WR-CALNAME:Kunst- und Kulturverein Erbendorf
X-ORIGINAL-URL:https://www.kukuve.org
X-WR-CALDESC:Veranstaltungen für Kunst- und Kulturverein Erbendorf
REFRESH-INTERVAL;VALUE=DURATION:PT1H
X-Robots-Tag:noindex
X-PUBLISHED-TTL:PT1H
BEGIN:VTIMEZONE
TZID:Europe/Berlin
BEGIN:DAYLIGHT
TZOFFSETFROM:+0100
TZOFFSETTO:+0200
TZNAME:CEST
DTSTART:20260329T010000
END:DAYLIGHT
BEGIN:STANDARD
TZOFFSETFROM:+0200
TZOFFSETTO:+0100
TZNAME:CET
DTSTART:20261025T010000
END:STANDARD
END:VTIMEZONE
BEGIN:VEVENT
DTSTART;TZID=Europe/Berlin:20261128T193000
DTEND;TZID=Europe/Berlin:20261128T193000
DTSTAMP:20260421T234647
CREATED:20260326T174950Z
LAST-MODIFIED:20260326T174950Z
UID:2123-1795894200-1795894200@www.kukuve.org
SUMMARY:Couchkonzert - Chrissi im Roten Roß
DESCRIPTION:Die Singer-Songwriterin aus Waldershof in der Oberpfalz steht für authentische\, handgemachte Musik. In ihren Songs verschmelzen Folk-Elemente mit modernen Pop-Einflüssen zu einer Klangwelt\, die persönlich\, nahbar und abwechslungsreich ist – mal gefühlvoll und nachdenklich\, mal energiegeladen und mitreißend. Genau wie sie selbst. \nEnde November hast du die Chance CHRISSI in Erbendorf im Roten Ross bei einem Couchkonzert live zu erleben und dich ganz ihrer Musik hinzugeben. Für Speis und Trank ist bestens gesorgt – der Eintritt ist frei\, um eine Spende in die Hutkasse wird gebeten.
URL:https://www.kukuve.org/veranstaltungen/couchkonzert-chrissi-im-roten-ross/
LOCATION:Rotes Ross\, Unterer Markt 3\, Erbendorf\, 92681
END:VEVENT
END:VCALENDAR