BEGIN:VCALENDAR
VERSION:2.0
PRODID:-//Kunst- und Kulturverein Erbendorf - ECPv6.10.0//NONSGML v1.0//EN
CALSCALE:GREGORIAN
METHOD:PUBLISH
X-ORIGINAL-URL:https://www.kukuve.org
X-WR-CALDESC:Veranstaltungen für Kunst- und Kulturverein Erbendorf
REFRESH-INTERVAL;VALUE=DURATION:PT1H
X-Robots-Tag:noindex
X-PUBLISHED-TTL:PT1H
BEGIN:VTIMEZONE
TZID:Europe/Berlin
BEGIN:DAYLIGHT
TZOFFSETFROM:+0100
TZOFFSETTO:+0200
TZNAME:CEST
DTSTART:20260329T010000
END:DAYLIGHT
BEGIN:STANDARD
TZOFFSETFROM:+0200
TZOFFSETTO:+0100
TZNAME:CET
DTSTART:20261025T010000
END:STANDARD
END:VTIMEZONE
BEGIN:VEVENT
DTSTART;TZID=Europe/Berlin:20261114T190000
DTEND;TZID=Europe/Berlin:20261114T190000
DTSTAMP:20260421T234826
CREATED:20260326T175100Z
LAST-MODIFIED:20260326T175100Z
UID:2118-1794682800-1794682800@www.kukuve.org
SUMMARY:Open Stage
DESCRIPTION:Bist du Solokünstler\, Teil einer Band oder einfach jemand\, der Lust auf einen Abend voller Musik\, Kreativität und guter Stimmung hat? Dann ist unsere Open Stage genau das Richtige für dich! Bei der Neuauflage dieses Events bieten wir Musikern und Talenten eine offene Bühne\, um sich zu zeigen und ihr Können zu präsentieren – dabei ist es völlig egal\, welches Genre du spielst. Ob Singer-Songwriter\, Rockband\, Hip-Hop Act oder einfach nur Experimentelles – jeder ist willkommen\, die Bühne zu rocken! Anmeldung: daniel_baer@gmx.net \nNutze die Chance\, dein Publikum zu finden und dich mit anderen Künstlern zu vernetzen. Die Atmosphäre wird locker und inspirierend sein\, und du hast die Möglichkeit\, dich vor einem tollen Publikum auszuprobieren. Melde dich gerne im Voraus bei uns\, um dir einen Platz und deinen Auftrittszeitraum zu sichern. Wir freuen uns auf jeden Künstler und Zuhörer – auch ohne Auftritt.
URL:https://www.kukuve.org/veranstaltungen/open-stage-2/
CATEGORIES:Musik
END:VEVENT
END:VCALENDAR