BEGIN:VCALENDAR
VERSION:2.0
PRODID:-//Kunst- und Kulturverein Erbendorf - ECPv6.10.0//NONSGML v1.0//EN
CALSCALE:GREGORIAN
METHOD:PUBLISH
X-WR-CALNAME:Kunst- und Kulturverein Erbendorf
X-ORIGINAL-URL:https://www.kukuve.org
X-WR-CALDESC:Veranstaltungen für Kunst- und Kulturverein Erbendorf
REFRESH-INTERVAL;VALUE=DURATION:PT1H
X-Robots-Tag:noindex
X-PUBLISHED-TTL:PT1H
BEGIN:VTIMEZONE
TZID:Europe/Berlin
BEGIN:DAYLIGHT
TZOFFSETFROM:+0100
TZOFFSETTO:+0200
TZNAME:CEST
DTSTART:20260329T010000
END:DAYLIGHT
BEGIN:STANDARD
TZOFFSETFROM:+0200
TZOFFSETTO:+0100
TZNAME:CET
DTSTART:20261025T010000
END:STANDARD
END:VTIMEZONE
BEGIN:VEVENT
DTSTART;TZID=Europe/Berlin:20260527T160000
DTEND;TZID=Europe/Berlin:20260527T180000
DTSTAMP:20260421T134226
CREATED:20260326T170845Z
LAST-MODIFIED:20260326T173752Z
UID:2098-1779897600-1779904800@www.kukuve.org
SUMMARY:Kinderyoga
DESCRIPTION:Mal stark wie ein Löwe\, mal ruhig wie eine Schildkröte – beim Kinderyoga entdecken Kinder\, wie wunderbar Bewegung und Entspannung zusammenpassen. Bei einer Yogaeinheit reisen wir mit Fantasie und Freude durch kleine Yogageschichten\, üben lustige Tierhaltungen\, atmen bewusst und finden Momente echter Ruhe. \nDie Kinder lernen spielerisch\, auf ihren Körper zu hören\, achtsam zu sein und Kraft aus der Stille zu schöpfen. Ganz ohne Leistungsdruck\, dafür mit viel Spaß\, Fantasie und Geborgenheit. Bitte eine Matte mitnehmen und bequeme Kleidung anziehen. \nGruppe 4-6 Jahre: 16-17 Uhr\nGruppe 7-10 Jahre: 17-18 Uhr\nTeilnahmegebühr: 5€ (Mitglieder frei)
URL:https://www.kukuve.org/veranstaltungen/kinderyoga/
LOCATION:Schulturnhalle\, Frühmeßgasse 15\, Erbendorf\, 92681
CATEGORIES:Gesundheit
END:VEVENT
END:VCALENDAR